BEGIN:VCALENDAR
VERSION:2.0
PRODID:-//Black at the University of Toronto Mississauga - ECPv6.15.20//NONSGML v1.0//EN
CALSCALE:GREGORIAN
METHOD:PUBLISH
X-WR-CALNAME:Black at the University of Toronto Mississauga
X-ORIGINAL-URL:https://black.utm.utoronto.ca
X-WR-CALDESC:Events for Black at the University of Toronto Mississauga
REFRESH-INTERVAL;VALUE=DURATION:PT1H
X-Robots-Tag:noindex
X-PUBLISHED-TTL:PT1H
BEGIN:VTIMEZONE
TZID:America/Toronto
BEGIN:DAYLIGHT
TZOFFSETFROM:-0500
TZOFFSETTO:-0400
TZNAME:EDT
DTSTART:20230312T070000
END:DAYLIGHT
BEGIN:STANDARD
TZOFFSETFROM:-0400
TZOFFSETTO:-0500
TZNAME:EST
DTSTART:20231105T060000
END:STANDARD
BEGIN:DAYLIGHT
TZOFFSETFROM:-0500
TZOFFSETTO:-0400
TZNAME:EDT
DTSTART:20240310T070000
END:DAYLIGHT
BEGIN:STANDARD
TZOFFSETFROM:-0400
TZOFFSETTO:-0500
TZNAME:EST
DTSTART:20241103T060000
END:STANDARD
BEGIN:DAYLIGHT
TZOFFSETFROM:-0500
TZOFFSETTO:-0400
TZNAME:EDT
DTSTART:20250309T070000
END:DAYLIGHT
BEGIN:STANDARD
TZOFFSETFROM:-0400
TZOFFSETTO:-0500
TZNAME:EST
DTSTART:20251102T060000
END:STANDARD
END:VTIMEZONE
BEGIN:VEVENT
DTSTART;TZID=America/Toronto:20240123T180000
DTEND;TZID=America/Toronto:20240123T200000
DTSTAMP:20260420T215710
CREATED:20240108T153342Z
LAST-MODIFIED:20240108T153342Z
UID:10000042-1706032800-1706040000@black.utm.utoronto.ca
SUMMARY:Black Career Pathways In Law
DESCRIPTION:Black Career Pathways in Law  \nDate: Tuesday\, Jan 23\, 2024\nTime: 6:00 PM – 8:00 PM EST\nLocation: UTM Student Centre Presentation Room 170A  or Online – Zoom\nTarget Audience: Self-identifying Black students and recent graduates but All welcome to attend \nRegister Here\nRegistration will close Jan 18. Please register ASAP. In-person registrations are limited.  \nJoin us for Black Career Pathways in Law; an event for self-identified Black students and new graduates to network\, build community and to create meaningful change for their career paths in Law. The event will consist of two panel discussions (Black identifying law students and lawyers)\, who will share stories of their experiences navigating their careers. The event will consist of a panel discussion with Black professionals in Law\, who will share stories of their experiences navigating their careers. \nIn partnership with: UTMSU\, Black Future Lawyers\, Black Literature & Arts\, UTM Alumni Relations\, and UTM’s Equity\, Diversity & Inclusion Office.
URL:https://black.utm.utoronto.ca/event/black-career-pathways-in-law/
LOCATION:University of Toronto Mississauga\, 3359 Mississauga Rd.\, Mississauga\, ON\, L5L 1C6\, Canada
ATTACH;FMTTYPE=image/png:https://black.utm.utoronto.ca/wp-content/uploads/2024/01/BlackCareerPathwaysInLaw.png
END:VEVENT
END:VCALENDAR