BEGIN:VCALENDAR
VERSION:2.0
PRODID:-//Black at the University of Toronto Mississauga - ECPv6.15.20//NONSGML v1.0//EN
CALSCALE:GREGORIAN
METHOD:PUBLISH
X-WR-CALNAME:Black at the University of Toronto Mississauga
X-ORIGINAL-URL:https://black.utm.utoronto.ca
X-WR-CALDESC:Events for Black at the University of Toronto Mississauga
REFRESH-INTERVAL;VALUE=DURATION:PT1H
X-Robots-Tag:noindex
X-PUBLISHED-TTL:PT1H
BEGIN:VTIMEZONE
TZID:America/Toronto
BEGIN:DAYLIGHT
TZOFFSETFROM:-0500
TZOFFSETTO:-0400
TZNAME:EDT
DTSTART:20230312T070000
END:DAYLIGHT
BEGIN:STANDARD
TZOFFSETFROM:-0400
TZOFFSETTO:-0500
TZNAME:EST
DTSTART:20231105T060000
END:STANDARD
BEGIN:DAYLIGHT
TZOFFSETFROM:-0500
TZOFFSETTO:-0400
TZNAME:EDT
DTSTART:20240310T070000
END:DAYLIGHT
BEGIN:STANDARD
TZOFFSETFROM:-0400
TZOFFSETTO:-0500
TZNAME:EST
DTSTART:20241103T060000
END:STANDARD
BEGIN:DAYLIGHT
TZOFFSETFROM:-0500
TZOFFSETTO:-0400
TZNAME:EDT
DTSTART:20250309T070000
END:DAYLIGHT
BEGIN:STANDARD
TZOFFSETFROM:-0400
TZOFFSETTO:-0500
TZNAME:EST
DTSTART:20251102T060000
END:STANDARD
END:VTIMEZONE
BEGIN:VEVENT
DTSTART;TZID=America/Toronto:20240508T110000
DTEND;TZID=America/Toronto:20240508T130000
DTSTAMP:20260420T205453
CREATED:20240415T222123Z
LAST-MODIFIED:20240415T222123Z
UID:10000075-1715166000-1715173200@black.utm.utoronto.ca
SUMMARY:Black Health Lecture Series
DESCRIPTION:You are invited to attend the conclusion of the Black Health Lecture Series on May 8th\, from 11:00am – 1:00pm. Please see the flyer and sign up to register if you can make it (this will be an in-person event). \nOur speaker is Debbie Douglas the Executive Director of Ontario Council of Agencies Serving Immigrants. She will be speaking about the Black refugee crisis in Canada. \nTo register\, click here.
URL:https://black.utm.utoronto.ca/event/black-health-lecture-series/
LOCATION:University of Toronto Mississauga\, 3359 Mississauga Rd.\, Mississauga\, ON\, L5L 1C6\, Canada
ATTACH;FMTTYPE=image/png:https://black.utm.utoronto.ca/wp-content/uploads/2024/04/BHLSeries-Poster.png
END:VEVENT
BEGIN:VEVENT
DTSTART;TZID=America/Toronto:20240508T121000
DTEND;TZID=America/Toronto:20240508T124500
DTSTAMP:20260420T205453
CREATED:20240507T133922Z
LAST-MODIFIED:20240515T141421Z
UID:10000077-1715170200-1715172300@black.utm.utoronto.ca
SUMMARY:Uzima Wednesday Walks
DESCRIPTION:With the weather warming up\, we are excited to announce new ways to bring together our Black-identifying staff in an informal\, leisurely\, and healthy way to increase social connections through our Uzima (Wellness) Wednesday Walks\, starting this Wednesday\, May 8th\, and every Wednesday through May 29th\, 2024. \nThese 30-40-minute walks through our campus\, led by members of the Black Leadership Table\, are an excellent way for Black-identifying staff to stay active\, connect with nature\, and reap the mental health benefits of the great outdoors. \nMeet-up location: We will meet in front of Tim Horton’s in the Davis Building at 12:10 p.m. and head out. \nTo participate: \n\nChoose the right gear and stay hydrated: comfortable shoes are a must\, as are sunscreen\, sunglasses\, a light jacket\, and a water bottle.\nWarm up for our route: prepare your muscles for the walk. Gentle stretches or marching in place can prevent injury. Our walks are along the well-maintained paths on campus\, so you can enjoy the scenery.\nRegister: Uzima Wednesday Walks – Registration Form (office.com) here for walks on May 8\, 15\, 22\, and 29.\n\nThis initiative is part of the Black at UTM priorities that foster and embed a culture of belonging\, support community engagement\, dialogue and participation\, and increase Black visibility and impact at UTM. To learn more about Black at UTM\, please visit our website at https://black.utm.utoronto.ca/ or email us at black.utm@utoronto.ca. \nSee you on the trails!
URL:https://black.utm.utoronto.ca/event/uzima-wednesday-walks/2024-05-08/
LOCATION:University of Toronto Mississauga\, 3359 Mississauga Rd.\, Mississauga\, ON\, L5L 1C6\, Canada
ATTACH;FMTTYPE=image/jpeg:https://black.utm.utoronto.ca/wp-content/uploads/2024/05/Uzima-Screen-updated.jpg
ORGANIZER;CN="Black Staff Leadership Table":MAILTO:black.utm@utoronto.ca
END:VEVENT
BEGIN:VEVENT
DTSTART;TZID=America/Toronto:20240508T151000
DTEND;TZID=America/Toronto:20240508T160000
DTSTAMP:20260420T205453
CREATED:20231127T204745Z
LAST-MODIFIED:20231127T204745Z
UID:10000022-1715181000-1715184000@black.utm.utoronto.ca
SUMMARY:ABR Operational Group Monthly Meeting
DESCRIPTION:The meetings for this event will be held virtually. \nFor inquiries\, contact us at black.utm@utoronto.ca.
URL:https://black.utm.utoronto.ca/event/abr-operational-group-monthly-meeting/2024-05-08/
LOCATION:University of Toronto Mississauga\, 3359 Mississauga Rd.\, Mississauga\, ON\, L5L 1C6\, Canada
ATTACH;FMTTYPE=image/jpeg:https://black.utm.utoronto.ca/wp-content/uploads/2023/09/black-at-utm-138.jpg
END:VEVENT
END:VCALENDAR