BEGIN:VCALENDAR
VERSION:2.0
PRODID:-//Black at the University of Toronto Mississauga - ECPv6.15.20//NONSGML v1.0//EN
CALSCALE:GREGORIAN
METHOD:PUBLISH
X-ORIGINAL-URL:https://black.utm.utoronto.ca
X-WR-CALDESC:Events for Black at the University of Toronto Mississauga
REFRESH-INTERVAL;VALUE=DURATION:PT1H
X-Robots-Tag:noindex
X-PUBLISHED-TTL:PT1H
BEGIN:VTIMEZONE
TZID:America/Toronto
BEGIN:DAYLIGHT
TZOFFSETFROM:-0500
TZOFFSETTO:-0400
TZNAME:EDT
DTSTART:20230312T070000
END:DAYLIGHT
BEGIN:STANDARD
TZOFFSETFROM:-0400
TZOFFSETTO:-0500
TZNAME:EST
DTSTART:20231105T060000
END:STANDARD
BEGIN:DAYLIGHT
TZOFFSETFROM:-0500
TZOFFSETTO:-0400
TZNAME:EDT
DTSTART:20240310T070000
END:DAYLIGHT
BEGIN:STANDARD
TZOFFSETFROM:-0400
TZOFFSETTO:-0500
TZNAME:EST
DTSTART:20241103T060000
END:STANDARD
BEGIN:DAYLIGHT
TZOFFSETFROM:-0500
TZOFFSETTO:-0400
TZNAME:EDT
DTSTART:20250309T070000
END:DAYLIGHT
BEGIN:STANDARD
TZOFFSETFROM:-0400
TZOFFSETTO:-0500
TZNAME:EST
DTSTART:20251102T060000
END:STANDARD
END:VTIMEZONE
BEGIN:VEVENT
DTSTART;VALUE=DATE:20240617
DTEND;VALUE=DATE:20240629
DTSTAMP:20260422T174029
CREATED:20240129T143609Z
LAST-MODIFIED:20240226T144115Z
UID:10000053-1718582400-1719619199@black.utm.utoronto.ca
SUMMARY:Interdisciplinary Science Program in Research and Entrepreneurship (INSPIRE)
DESCRIPTION:Planning on pursuing a graduate degree in the Physical or Life Sciences? Interested in a future career in biotech? Curious about what it takes to build your own start-up? \nWe’re pleased to announce that registration is now open for this year’s Interdisciplinary Science Program in Research and Entrepreneurship (INSPIRE). INSPIRE is an immersive\, interdisciplinary program that introduces students to cutting-edge research in the quantitative life sciences. The theme for 2024 is Quantitative Biosciences and Research Translation.  \n\nProgram Dates: June 17 to 28\, 2024\nLocation: UTM Campus\nApplication Deadline: Monday\, April 1\, 2024\n\nStudents will participate in hands-on modules\, directly within research labs\, that focus on projects across scales from single proteins to microbial systems. They’ll receive a crash course in research translation and innovation and meet with young entrepreneurial scientists.   \nAnd\, new this year\, students will be able to participate in workshops within SpinUp — U of T’s first wet lab startup incubator! We’re excited to have SpinUp lead our entrepreneurship programming\, which will include networking opportunities\, seminars\, and a pitch competition.  \nWe look forward to welcoming a new cohort of undergraduate students to UTM this summer! 
URL:https://black.utm.utoronto.ca/event/interdisciplinary-science-program-in-research-and-entrepreneurship-inspire/
LOCATION:University of Toronto Mississauga\, 3359 Mississauga Rd.\, Mississauga\, ON\, L5L 1C6\, Canada
ATTACH;FMTTYPE=image/png:https://black.utm.utoronto.ca/wp-content/uploads/2024/01/inspire-promo.png
END:VEVENT
END:VCALENDAR