BEGIN:VCALENDAR
VERSION:2.0
PRODID:-//Black at the University of Toronto Mississauga - ECPv6.15.20//NONSGML v1.0//EN
CALSCALE:GREGORIAN
METHOD:PUBLISH
X-WR-CALNAME:Black at the University of Toronto Mississauga
X-ORIGINAL-URL:https://black.utm.utoronto.ca
X-WR-CALDESC:Events for Black at the University of Toronto Mississauga
REFRESH-INTERVAL;VALUE=DURATION:PT1H
X-Robots-Tag:noindex
X-PUBLISHED-TTL:PT1H
BEGIN:VTIMEZONE
TZID:America/Toronto
BEGIN:DAYLIGHT
TZOFFSETFROM:-0500
TZOFFSETTO:-0400
TZNAME:EDT
DTSTART:20230312T070000
END:DAYLIGHT
BEGIN:STANDARD
TZOFFSETFROM:-0400
TZOFFSETTO:-0500
TZNAME:EST
DTSTART:20231105T060000
END:STANDARD
BEGIN:DAYLIGHT
TZOFFSETFROM:-0500
TZOFFSETTO:-0400
TZNAME:EDT
DTSTART:20240310T070000
END:DAYLIGHT
BEGIN:STANDARD
TZOFFSETFROM:-0400
TZOFFSETTO:-0500
TZNAME:EST
DTSTART:20241103T060000
END:STANDARD
BEGIN:DAYLIGHT
TZOFFSETFROM:-0500
TZOFFSETTO:-0400
TZNAME:EDT
DTSTART:20250309T070000
END:DAYLIGHT
BEGIN:STANDARD
TZOFFSETFROM:-0400
TZOFFSETTO:-0500
TZNAME:EST
DTSTART:20251102T060000
END:STANDARD
END:VTIMEZONE
BEGIN:VEVENT
DTSTART;TZID=America/Toronto:20240919T120000
DTEND;TZID=America/Toronto:20240919T150000
DTSTAMP:20260421T072858
CREATED:20231127T203554Z
LAST-MODIFIED:20240531T163533Z
UID:10000068-1726747200-1726758000@black.utm.utoronto.ca
SUMMARY:Black Leadership Advisory Committee
DESCRIPTION:The UTM Black Leadership Advisory Committee (BLAC) will serve as an advisory body to the Vice President and Principal and the campus’ leadership teams and committees to support transformative changes that promote that promote Black Flourishing and Inclusive Excellence among UTM’s Black staff\, students\, faculty\, instructors\, custodians\, and librarian communities by dismantling patterns of anti-Black racism and injustice. Using an equity-centered and anti-oppressive lens\, the Black Leadership Advisory Committee works collaboratively with campus and divisional partners to co-create a campus where all Black staff\, students\, faculty\, instructors\, custodians\, and librarians learn\, work\, teach and thrive by advancing racial equity and creating empowering spaces of belonging in all facets of the University of Toronto Mississauga’s mission and vision. \nDrawing on the expertise of UTM’s Black staff\, students\, faculty\, instructors\, custodians\, and librarians\, the BLAC will support a campus-wide approach to upholding\, sustaining\, and strengthening UTM’s strategic priorities and objectives in alignment with the 58 commitments from the Report of the University of Toronto Anti-Black Racism Task Force (utoronto.ca). \nYou can view the terms of reference here. \nThe event will take place in DV 3214. Note that remote attendance will also be available. \nFor inquiries\, contact us at black.utm@utoronto.ca.
URL:https://black.utm.utoronto.ca/event/black-leadership-table/2024-09-19/
LOCATION:University of Toronto Mississauga\, 3359 Mississauga Rd.\, Mississauga\, ON\, L5L 1C6\, Canada
ATTACH;FMTTYPE=image/jpeg:https://black.utm.utoronto.ca/wp-content/uploads/2023/09/black-at-utm-136.jpg
END:VEVENT
END:VCALENDAR