BEGIN:VCALENDAR
VERSION:2.0
PRODID:-//Black at the University of Toronto Mississauga - ECPv6.15.20//NONSGML v1.0//EN
CALSCALE:GREGORIAN
METHOD:PUBLISH
X-WR-CALNAME:Black at the University of Toronto Mississauga
X-ORIGINAL-URL:https://black.utm.utoronto.ca
X-WR-CALDESC:Events for Black at the University of Toronto Mississauga
REFRESH-INTERVAL;VALUE=DURATION:PT1H
X-Robots-Tag:noindex
X-PUBLISHED-TTL:PT1H
BEGIN:VTIMEZONE
TZID:America/Toronto
BEGIN:DAYLIGHT
TZOFFSETFROM:-0500
TZOFFSETTO:-0400
TZNAME:EDT
DTSTART:20230312T070000
END:DAYLIGHT
BEGIN:STANDARD
TZOFFSETFROM:-0400
TZOFFSETTO:-0500
TZNAME:EST
DTSTART:20231105T060000
END:STANDARD
BEGIN:DAYLIGHT
TZOFFSETFROM:-0500
TZOFFSETTO:-0400
TZNAME:EDT
DTSTART:20240310T070000
END:DAYLIGHT
BEGIN:STANDARD
TZOFFSETFROM:-0400
TZOFFSETTO:-0500
TZNAME:EST
DTSTART:20241103T060000
END:STANDARD
BEGIN:DAYLIGHT
TZOFFSETFROM:-0500
TZOFFSETTO:-0400
TZNAME:EDT
DTSTART:20250309T070000
END:DAYLIGHT
BEGIN:STANDARD
TZOFFSETFROM:-0400
TZOFFSETTO:-0500
TZNAME:EST
DTSTART:20251102T060000
END:STANDARD
BEGIN:DAYLIGHT
TZOFFSETFROM:-0500
TZOFFSETTO:-0400
TZNAME:EDT
DTSTART:20260308T070000
END:DAYLIGHT
BEGIN:STANDARD
TZOFFSETFROM:-0400
TZOFFSETTO:-0500
TZNAME:EST
DTSTART:20261101T060000
END:STANDARD
END:VTIMEZONE
BEGIN:VEVENT
DTSTART;VALUE=DATE:20241114
DTEND;VALUE=DATE:20250111
DTSTAMP:20260420T140644
CREATED:20241118T141743Z
LAST-MODIFIED:20241118T141743Z
UID:10000104-1731542400-1736553599@black.utm.utoronto.ca
SUMMARY:Black Opportunities Fund 2025 - Application Period
DESCRIPTION:The Black Opportunities Fund UTM (BOF) is a resource to support the University of Toronto Mississauga’s departments and units in amplifying the creativity\, visibility and brilliance of UTM’s Black communities through projects that address inequities and contribute toward positive experiences for UTM’s Black staff\, faculty\, librarians\, instructors\, students\, and caretakers. Click here for further information regarding the fund. \nThe available funding for any proposed project ranges from $500 to $3\,000. Applicants are only eligible for funding for a maximum of one application. The funding period is February 1\, 2025\, to April 30\, 2025. \nClick here to download the application form. Complete applications will be accepted via email at black.utm@utoronto.ca on or before the deadline of Friday\, January 10th\, 2025.
URL:https://black.utm.utoronto.ca/event/black-opportunities-fund-2025-application-period/
LOCATION:University of Toronto Mississauga\, 3359 Mississauga Rd.\, Mississauga\, ON\, L5L 1C6\, Canada
ATTACH;FMTTYPE=image/png:https://black.utm.utoronto.ca/wp-content/uploads/2024/11/BOF1.png
END:VEVENT
END:VCALENDAR