BEGIN:VCALENDAR
VERSION:2.0
PRODID:-//Black at the University of Toronto Mississauga - ECPv6.15.20//NONSGML v1.0//EN
CALSCALE:GREGORIAN
METHOD:PUBLISH
X-ORIGINAL-URL:https://black.utm.utoronto.ca
X-WR-CALDESC:Events for Black at the University of Toronto Mississauga
REFRESH-INTERVAL;VALUE=DURATION:PT1H
X-Robots-Tag:noindex
X-PUBLISHED-TTL:PT1H
BEGIN:VTIMEZONE
TZID:America/Toronto
BEGIN:DAYLIGHT
TZOFFSETFROM:-0500
TZOFFSETTO:-0400
TZNAME:EDT
DTSTART:20240310T070000
END:DAYLIGHT
BEGIN:STANDARD
TZOFFSETFROM:-0400
TZOFFSETTO:-0500
TZNAME:EST
DTSTART:20241103T060000
END:STANDARD
BEGIN:DAYLIGHT
TZOFFSETFROM:-0500
TZOFFSETTO:-0400
TZNAME:EDT
DTSTART:20250309T070000
END:DAYLIGHT
BEGIN:STANDARD
TZOFFSETFROM:-0400
TZOFFSETTO:-0500
TZNAME:EST
DTSTART:20251102T060000
END:STANDARD
BEGIN:DAYLIGHT
TZOFFSETFROM:-0500
TZOFFSETTO:-0400
TZNAME:EDT
DTSTART:20260308T070000
END:DAYLIGHT
BEGIN:STANDARD
TZOFFSETFROM:-0400
TZOFFSETTO:-0500
TZNAME:EST
DTSTART:20261101T060000
END:STANDARD
END:VTIMEZONE
BEGIN:VEVENT
DTSTART;TZID=America/Toronto:20250225T110000
DTEND;TZID=America/Toronto:20250225T130000
DTSTAMP:20260422T221137
CREATED:20250201T162016Z
LAST-MODIFIED:20250205T213121Z
UID:10000114-1740481200-1740488400@black.utm.utoronto.ca
SUMMARY:Black Flourishing Showcase
DESCRIPTION:Date: February 25th 2025 \nTime: 11:00am-1:00pm \nLocation: Collaborative Digital Research Space (CDRS)\, Maanjiwe Nendamowinan\, 3230 \nOpen to: UTM’s Students\, Staff\, Faculty\, Librarians\, Instructors and Caretakers. \nExperience the various aspects of Black at UTM through the development of the ‘Black Flourishing Framework‘. \nParticipate in flash talks with key contributors and games\, visit interactive booths and demonstrations\, and learn how different departments\, units\, and teams have been dedicated to bolstering the conditions for Black flourishing at UTM and marking a significant new chapter for the university that prioritizes our commitment to equity and inclusive excellence in everything we do. \nRegister here: https://forms.office.com
URL:https://black.utm.utoronto.ca/event/black-flourishing-showcase/
LOCATION:University of Toronto Mississauga\, 3359 Mississauga Rd.\, Mississauga\, ON\, L5L 1C6\, Canada
ATTACH;FMTTYPE=image/png:https://black.utm.utoronto.ca/wp-content/uploads/2025/02/updated_BlackFlourishingShowcaseSignage.png
END:VEVENT
BEGIN:VEVENT
DTSTART;TZID=America/Toronto:20250225T110000
DTEND;TZID=America/Toronto:20250225T130000
DTSTAMP:20260422T221137
CREATED:20250204T144545Z
LAST-MODIFIED:20250204T144545Z
UID:10000117-1740481200-1740488400@black.utm.utoronto.ca
SUMMARY:Black Health Lecture Series 2025
DESCRIPTION:In celebration of African Liberation Month\, this series highlights how various African/Black folks are navigating the healthcare system\, and how it impacts them daily. \nTo attend a lecture\, see the dates/times below and register here: https://utoronto.zoom.us/meeting/register/ \n\nTuesday\, February 11\, 2025\, from 6:00 – 8:00 pm: HIV+ women prisoners (virtual)\nTuesday\, February 25\, 2025\, from 11:00 am – 1:00 pm: The Black refugee crisis (in-person)\nTuesday\, March 4\, 2025\, from 11:00 am – 1:00 pm: Black youth and suicidality (virtual)\nWednesday\, March 26\, 2025: 6:00 – 8:00 pm: Black queer youth (virtual)
URL:https://black.utm.utoronto.ca/event/black-health-lecture-series-2025/2025-02-25/
LOCATION:University of Toronto Mississauga\, 3359 Mississauga Rd.\, Mississauga\, ON\, L5L 1C6\, Canada
ATTACH;FMTTYPE=image/jpeg:https://black.utm.utoronto.ca/wp-content/uploads/2025/02/Black-Health-Lecture-Series-STD-Jan-2025.jpg
END:VEVENT
END:VCALENDAR