BEGIN:VCALENDAR
VERSION:2.0
PRODID:-//Black at the University of Toronto Mississauga - ECPv6.15.20//NONSGML v1.0//EN
CALSCALE:GREGORIAN
METHOD:PUBLISH
X-ORIGINAL-URL:https://black.utm.utoronto.ca
X-WR-CALDESC:Events for Black at the University of Toronto Mississauga
REFRESH-INTERVAL;VALUE=DURATION:PT1H
X-Robots-Tag:noindex
X-PUBLISHED-TTL:PT1H
BEGIN:VTIMEZONE
TZID:America/Toronto
BEGIN:DAYLIGHT
TZOFFSETFROM:-0500
TZOFFSETTO:-0400
TZNAME:EDT
DTSTART:20240310T070000
END:DAYLIGHT
BEGIN:STANDARD
TZOFFSETFROM:-0400
TZOFFSETTO:-0500
TZNAME:EST
DTSTART:20241103T060000
END:STANDARD
BEGIN:DAYLIGHT
TZOFFSETFROM:-0500
TZOFFSETTO:-0400
TZNAME:EDT
DTSTART:20250309T070000
END:DAYLIGHT
BEGIN:STANDARD
TZOFFSETFROM:-0400
TZOFFSETTO:-0500
TZNAME:EST
DTSTART:20251102T060000
END:STANDARD
BEGIN:DAYLIGHT
TZOFFSETFROM:-0500
TZOFFSETTO:-0400
TZNAME:EDT
DTSTART:20260308T070000
END:DAYLIGHT
BEGIN:STANDARD
TZOFFSETFROM:-0400
TZOFFSETTO:-0500
TZNAME:EST
DTSTART:20261101T060000
END:STANDARD
END:VTIMEZONE
BEGIN:VEVENT
DTSTART;TZID=America/Toronto:20251004T120000
DTEND;TZID=America/Toronto:20251228T160000
DTSTAMP:20260423T031028
CREATED:20251001T192839Z
LAST-MODIFIED:20251001T192839Z
UID:10000148-1759579200-1766937600@black.utm.utoronto.ca
SUMMARY:A History Exposed: The Enslavement of Black People in Canada
DESCRIPTION:Event Duration: Oct 4\, 2025 – Dec 28\, 2025\, 12:00pm – 4:00pm \nA History Exposed: The Enslavement of Black People in Canada is a travelling exhibit created by the Canadian Museum of Immigration at Pier 21 with guest curator Dr. Afua Cooper and in partnership with the Black Cultural Centre for Nova Scotia. \nBe sure to visit the only stop in the GTA for this groundbreaking new exhibition. Canada’s connection to enslavement is not just the Underground Railroad — enslavement played a significant role in the early settlement of Canada and its legacy can be seen and felt today. Discover the experiences of enslaved Black people in Canada through individual biographies and archival records\, learn how enslavement came to be in Canada\, and find out who were Canada’s enslavers. \nPlease note: This exhibition contains images and text describing violence endured by enslaved peoples and documents with racist and colonialist language. This content may challenge and disturb visitors. Adults with young children may wish to preview the exhibit beforehand. \nAbout Dr. Afua Cooper\nDr. Afua Cooper is a leading scholar\, author\, and artist whose work on enslavement\, abolition\, freedom\, and Black Canadian history has shaped the field. Her groundbreaking book The Hanging of Angelique was nominated for a Governor General’s Award and named one of CBC’s best Canadian books. \nA founder of the Black Canadian Studies Association\, she also established Dalhousie’s Black and African Diaspora Studies Minor. Dr. Cooper is an acclaimed poet and co-founder of Canada’s Dub Poetry movement\, serving as Halifax’s Poet Laureate (2018). Her many awards recognize her commitment to bridging scholarship\, creativity\, and social justice. \nThe Museums of Mississauga in partnership with the Friends of the Museums of Mississauga gratefully acknowledge the financial support of the Hazel McCallion Arts\, Culture and Heritage Fund at the Mississauga Foundation\, a registered charitable public foundation serving the people of Mississauga. \nRelated events\n\nRegister here for the Opening Reception on October 4\, 2025\nLearn more about the Panel Discussion on October 24\, 2025 – Tickets Coming Soon
URL:https://black.utm.utoronto.ca/event/a-history-exposed-the-enslavement-of-black-people-in-canada/
LOCATION:Adamson Estate\, 850 Enola Ave\, Mississauga\, ON\, L5G 4B2\, Canada
ATTACH;FMTTYPE=image/jpeg:https://black.utm.utoronto.ca/wp-content/uploads/2025/10/mus_historyexposed_25408_screens_f2_1200.jpg
END:VEVENT
BEGIN:VEVENT
DTSTART;TZID=America/Toronto:20251202T130000
DTEND;TZID=America/Toronto:20251202T150000
DTSTAMP:20260423T031028
CREATED:20250926T182405Z
LAST-MODIFIED:20250926T182405Z
UID:10000145-1764680400-1764687600@black.utm.utoronto.ca
SUMMARY:Caribbean & Black Writing Collective
DESCRIPTION:Dates: Select Tuesdays in Fall 2025: September 23\, October 14\, November 4\, November 18\, December 2 \nTime: 1:00pm – 3:00 pm \nLocation: Collaborative Digital Research Space (CDRS)\, MN3230 \n\nWriting is hard! Sometimes we need help with our writing\, and sometimes it’s just easier to be creative and to find inspiration when there are other people who look like you around. Consider coming to the Caribbean & Black Writing Collective if you are looking for a space to work on your writing. Faculty members who have expertise in numeracy and writing instruction will be present at the CBWC and they will be there to answer your questions\, offer support related to your concerns and help you with your writing. \nYou can come if you have questions about your draft\, you can stay to work on your writing in the company of others who share your identity and learning experiences. You’ll be surprised about how much of a difference that a collective of this nature can make for your writing experience and your academic journey at UTM. Snacks will be provided. Hope to see you there! \nUTM Caribbean & Black Writing Collective Fall 2025 Poster
URL:https://black.utm.utoronto.ca/event/caribbean-black-writing-collective-2/2025-12-02/
LOCATION:University of Toronto Mississauga\, 3359 Mississauga Rd.\, Mississauga\, ON\, L5L 1C6\, Canada
ATTACH;FMTTYPE=image/png:https://black.utm.utoronto.ca/wp-content/uploads/2025/09/CBWC-F25-cropped.png
END:VEVENT
END:VCALENDAR