BEGIN:VCALENDAR
VERSION:2.0
PRODID:-//Black at the University of Toronto Mississauga - ECPv6.15.20//NONSGML v1.0//EN
CALSCALE:GREGORIAN
METHOD:PUBLISH
X-ORIGINAL-URL:https://black.utm.utoronto.ca
X-WR-CALDESC:Events for Black at the University of Toronto Mississauga
REFRESH-INTERVAL;VALUE=DURATION:PT1H
X-Robots-Tag:noindex
X-PUBLISHED-TTL:PT1H
BEGIN:VTIMEZONE
TZID:America/Toronto
BEGIN:DAYLIGHT
TZOFFSETFROM:-0500
TZOFFSETTO:-0400
TZNAME:EDT
DTSTART:20250309T070000
END:DAYLIGHT
BEGIN:STANDARD
TZOFFSETFROM:-0400
TZOFFSETTO:-0500
TZNAME:EST
DTSTART:20251102T060000
END:STANDARD
BEGIN:DAYLIGHT
TZOFFSETFROM:-0500
TZOFFSETTO:-0400
TZNAME:EDT
DTSTART:20260308T070000
END:DAYLIGHT
BEGIN:STANDARD
TZOFFSETFROM:-0400
TZOFFSETTO:-0500
TZNAME:EST
DTSTART:20261101T060000
END:STANDARD
BEGIN:DAYLIGHT
TZOFFSETFROM:-0500
TZOFFSETTO:-0400
TZNAME:EDT
DTSTART:20270314T070000
END:DAYLIGHT
BEGIN:STANDARD
TZOFFSETFROM:-0400
TZOFFSETTO:-0500
TZNAME:EST
DTSTART:20271107T060000
END:STANDARD
END:VTIMEZONE
BEGIN:VEVENT
DTSTART;TZID=America/Toronto:20260219T130000
DTEND;TZID=America/Toronto:20260219T140000
DTSTAMP:20260422T235310
CREATED:20250903T033531Z
LAST-MODIFIED:20250903T033531Z
UID:10000137-1771506000-1771509600@black.utm.utoronto.ca
SUMMARY:Black Leadership Advisory Executive Member Meeting
DESCRIPTION:The Black Leadership Advisory Executive members (BLA-Executives) are a group of executive leaders dedicated to combating anti-Black racism and promoting Black inclusion at UTM. Our efforts focus on advocacy\, accountability\, and action. We work across departments\, engage with students and faculty\, and develop policies that drive systemic change. This group reports to the larger Black Leadership Advisory Committee. Areas of focus and operations include\, but are not limited to: Strategic Planning: We create and implement university-wide initiatives to address anti-Black racism and foster Black excellence; Policy Review & Reform: We evaluate institutional policies to ensure they embody equity\, justice\, and inclusivity; Community Engagement: We partner with Black student organizations\, faculty\, and staff to elevate voices and cultivate a sense of belonging; Accountability & Reporting: We track progress on UTM’s anti-racism initiatives and share results with senior leadership; and Mentorship & Leadership Development: We assist emerging Black leaders through mentorship programs\, workshops\, and professional growth opportunities.
URL:https://black.utm.utoronto.ca/event/black-leadership-advisory-executive-member-meeting/2026-02-19/
LOCATION:Online\, Private
ATTACH;FMTTYPE=image/jpeg:https://black.utm.utoronto.ca/wp-content/uploads/2025/09/Executive-Meeting-e1758912670619.jpg
END:VEVENT
END:VCALENDAR