BEGIN:VCALENDAR
VERSION:2.0
PRODID:-//Black at the University of Toronto Mississauga - ECPv6.15.20//NONSGML v1.0//EN
CALSCALE:GREGORIAN
METHOD:PUBLISH
X-WR-CALNAME:Black at the University of Toronto Mississauga
X-ORIGINAL-URL:https://black.utm.utoronto.ca
X-WR-CALDESC:Events for Black at the University of Toronto Mississauga
REFRESH-INTERVAL;VALUE=DURATION:PT1H
X-Robots-Tag:noindex
X-PUBLISHED-TTL:PT1H
BEGIN:VTIMEZONE
TZID:America/Toronto
BEGIN:DAYLIGHT
TZOFFSETFROM:-0500
TZOFFSETTO:-0400
TZNAME:EDT
DTSTART:20250309T070000
END:DAYLIGHT
BEGIN:STANDARD
TZOFFSETFROM:-0400
TZOFFSETTO:-0500
TZNAME:EST
DTSTART:20251102T060000
END:STANDARD
BEGIN:DAYLIGHT
TZOFFSETFROM:-0500
TZOFFSETTO:-0400
TZNAME:EDT
DTSTART:20260308T070000
END:DAYLIGHT
BEGIN:STANDARD
TZOFFSETFROM:-0400
TZOFFSETTO:-0500
TZNAME:EST
DTSTART:20261101T060000
END:STANDARD
BEGIN:DAYLIGHT
TZOFFSETFROM:-0500
TZOFFSETTO:-0400
TZNAME:EDT
DTSTART:20270314T070000
END:DAYLIGHT
BEGIN:STANDARD
TZOFFSETFROM:-0400
TZOFFSETTO:-0500
TZNAME:EST
DTSTART:20271107T060000
END:STANDARD
END:VTIMEZONE
BEGIN:VEVENT
DTSTART;TZID=America/Toronto:20260411T093000
DTEND;TZID=America/Toronto:20260411T163000
DTSTAMP:20260421T075637
CREATED:20260316T203744Z
LAST-MODIFIED:20260316T203744Z
UID:10000170-1775899800-1775925000@black.utm.utoronto.ca
SUMMARY:U of T’s Inaugural Black Alumni Conference
DESCRIPTION:Date: Saturday\, April 11\nTime: 9:30 a.m. – 4:30 p.m.\nLocation: Blind Duck Pub\, University of Toronto Mississauga (map)\nCost: Free. Lunch and refreshments will be served.\nParking: Paid parking is available in lot P8 or lot P9. View details and fee information here. \nJoin fellow alumni and students for this inaugural event hosted by the U of T Black Alumni Association. Reconnect with former classmates\, build new professional relationships\, and inspire the next generation of leaders. \nWe are honored to extend a special invitation to the Black student community at U of T Mississauga. Join us to bridge the gap between campus and career\, building meaningful connections with alumni who have walked the path before you. \nWe look forward to seeing you there! \nRegister here.
URL:https://black.utm.utoronto.ca/event/u-of-ts-inaugural-black-alumni-conference/
LOCATION:University of Toronto Mississauga\, 3359 Mississauga Rd.\, Mississauga\, ON\, L5L 1C6\, Canada
ATTACH;FMTTYPE=image/webp:https://black.utm.utoronto.ca/wp-content/uploads/2026/03/Karen-Kwan-Anderson-and-Tychelle-Johnson-6.png.webp
END:VEVENT
END:VCALENDAR