BEGIN:VCALENDAR
VERSION:2.0
PRODID:-//Black at the University of Toronto Mississauga - ECPv6.15.20//NONSGML v1.0//EN
CALSCALE:GREGORIAN
METHOD:PUBLISH
X-WR-CALNAME:Black at the University of Toronto Mississauga
X-ORIGINAL-URL:https://black.utm.utoronto.ca
X-WR-CALDESC:Events for Black at the University of Toronto Mississauga
REFRESH-INTERVAL;VALUE=DURATION:PT1H
X-Robots-Tag:noindex
X-PUBLISHED-TTL:PT1H
BEGIN:VTIMEZONE
TZID:America/Toronto
BEGIN:DAYLIGHT
TZOFFSETFROM:-0500
TZOFFSETTO:-0400
TZNAME:EDT
DTSTART:20220313T070000
END:DAYLIGHT
BEGIN:STANDARD
TZOFFSETFROM:-0400
TZOFFSETTO:-0500
TZNAME:EST
DTSTART:20221106T060000
END:STANDARD
BEGIN:DAYLIGHT
TZOFFSETFROM:-0500
TZOFFSETTO:-0400
TZNAME:EDT
DTSTART:20230312T070000
END:DAYLIGHT
BEGIN:STANDARD
TZOFFSETFROM:-0400
TZOFFSETTO:-0500
TZNAME:EST
DTSTART:20231105T060000
END:STANDARD
BEGIN:DAYLIGHT
TZOFFSETFROM:-0500
TZOFFSETTO:-0400
TZNAME:EDT
DTSTART:20240310T070000
END:DAYLIGHT
BEGIN:STANDARD
TZOFFSETFROM:-0400
TZOFFSETTO:-0500
TZNAME:EST
DTSTART:20241103T060000
END:STANDARD
END:VTIMEZONE
BEGIN:VEVENT
DTSTART;TZID=America/Toronto:20231025T120000
DTEND;TZID=America/Toronto:20231025T133000
DTSTAMP:20260421T014036
CREATED:20231019T211651Z
LAST-MODIFIED:20231020T212752Z
UID:10000003-1698235200-1698240600@black.utm.utoronto.ca
SUMMARY:Short Drop - Film Viewing
DESCRIPTION:Join the Black Staff Leadership Table and the Department of Visual Studies for a viewing of Short Drop\, a short film produced by Mary-Rebekah Reyes\, UTM ’22 and written and directed by Romario Reyes. After a successful showing at the Film and Folklore Festival this spring in Trinidad and Tobago\, Short Drop was a showcase feature at Toronto’s Caribbean Tales International Film Festival last month. After viewing the 9-minute film\, join us for a Q&A with Producer\, Mary-Rebekah\, who will be joining us virtually from Trinidad to share more about this horror-thriller.   \nLight refreshments will be served.   \nPlease RSVP at the following link: https://forms.office.com/r/jx2wUhUMt5
URL:https://black.utm.utoronto.ca/event/short-drop-film-viewing/
LOCATION:University of Toronto Mississauga\, 3359 Mississauga Rd.\, Mississauga\, ON\, L5L 1C6\, Canada
ATTACH;FMTTYPE=image/png:https://black.utm.utoronto.ca/wp-content/uploads/2023/10/Mary-Rebekah.png
ORGANIZER;CN="Black Staff Leadership Table":MAILTO:black.utm@utoronto.ca
END:VEVENT
END:VCALENDAR