BEGIN:VCALENDAR
VERSION:2.0
PRODID:-//Black at the University of Toronto Mississauga - ECPv6.15.20//NONSGML v1.0//EN
CALSCALE:GREGORIAN
METHOD:PUBLISH
X-ORIGINAL-URL:https://black.utm.utoronto.ca
X-WR-CALDESC:Events for Black at the University of Toronto Mississauga
REFRESH-INTERVAL;VALUE=DURATION:PT1H
X-Robots-Tag:noindex
X-PUBLISHED-TTL:PT1H
BEGIN:VTIMEZONE
TZID:America/Toronto
BEGIN:DAYLIGHT
TZOFFSETFROM:-0500
TZOFFSETTO:-0400
TZNAME:EDT
DTSTART:20230312T070000
END:DAYLIGHT
BEGIN:STANDARD
TZOFFSETFROM:-0400
TZOFFSETTO:-0500
TZNAME:EST
DTSTART:20231105T060000
END:STANDARD
BEGIN:DAYLIGHT
TZOFFSETFROM:-0500
TZOFFSETTO:-0400
TZNAME:EDT
DTSTART:20240310T070000
END:DAYLIGHT
BEGIN:STANDARD
TZOFFSETFROM:-0400
TZOFFSETTO:-0500
TZNAME:EST
DTSTART:20241103T060000
END:STANDARD
BEGIN:DAYLIGHT
TZOFFSETFROM:-0500
TZOFFSETTO:-0400
TZNAME:EDT
DTSTART:20250309T070000
END:DAYLIGHT
BEGIN:STANDARD
TZOFFSETFROM:-0400
TZOFFSETTO:-0500
TZNAME:EST
DTSTART:20251102T060000
END:STANDARD
END:VTIMEZONE
BEGIN:VEVENT
DTSTART;TZID=America/Toronto:20240201T130000
DTEND;TZID=America/Toronto:20240201T143000
DTSTAMP:20260423T100640
CREATED:20240115T153736Z
LAST-MODIFIED:20240129T142037Z
UID:10000048-1706792400-1706797800@black.utm.utoronto.ca
SUMMARY:Black on the Shelf
DESCRIPTION:Join us inside the UTM Library next Thursday\, February 1st\, to explore Black literature in the stories we tell about love\, life\, and the experiences of being Black in the world around us.\n\nIn partnership with the UTM Library and Black at UTM\, this event showcases a collection of thirty-one (31) must-read books highlighting Black authorship in various genres. Participate in book readings\, reflective conversations\, games\, and a chance to win awesome prizes.\nThis collection includes books recommended by Black-identifying students at UTM\, books published by Black-identifying scholars at UTM\, and books that focus on anti-racist and inclusive pedagogies\, ensuring Black stories are told and preserved.\nTo Register: https://forms.office.com/r/SF3Zf3qAq1
URL:https://black.utm.utoronto.ca/event/black-on-the-shelf/
LOCATION:University of Toronto Mississauga\, 3359 Mississauga Rd.\, Mississauga\, ON\, L5L 1C6\, Canada
ATTACH;FMTTYPE=image/jpeg:https://black.utm.utoronto.ca/wp-content/uploads/2024/01/BOTSEventDetails.jpeg
END:VEVENT
BEGIN:VEVENT
DTSTART;TZID=America/Toronto:20240202T170000
DTEND;TZID=America/Toronto:20240202T210000
DTSTAMP:20260423T100640
CREATED:20240123T144239Z
LAST-MODIFIED:20240125T220154Z
UID:10000025-1706893200-1706907600@black.utm.utoronto.ca
SUMMARY:Black History Month Welcome Ceremony
DESCRIPTION:The Welcome Ceremony marks the beginning of Black History Month at UTM held by the UTM Students’ Union\, Black@UTM at the Office of the Vice-President and Principal\, and the Equity\, Diversity\, and Inclusion Office. Held on Friday\, February 2nd\, 2024 at 5:00 PM in the Kaneff Rotunda\, this event brings all Black-identifying staff\, students\, faculty\, and alumni together to celebrate the month\, create a safe space based on lived experiences\, and engage in cultural games. Dinner and refreshments will be provided. \nRegister: https://uoft.me/BHMWelcomeCeremonyNote: Photos and videos will be taken at this event and may be posted on social media. If you have any questions or you do not want your photo captured\, please inform an organizing staff member.If you have any accommodation requests or questions\, please contact Entisar Yusuf\, UTM EDI Office at: e.yusuf@utoronto.ca
URL:https://black.utm.utoronto.ca/event/black-history-month-welcome-ceremony/
LOCATION:University of Toronto Mississauga\, 3359 Mississauga Rd.\, Mississauga\, ON\, L5L 1C6\, Canada
ATTACH;FMTTYPE=image/png:https://black.utm.utoronto.ca/wp-content/uploads/2024/01/BHMWelcome.png
END:VEVENT
BEGIN:VEVENT
DTSTART;TZID=America/Toronto:20240205T170000
DTEND;TZID=America/Toronto:20240205T190000
DTSTAMP:20260423T100640
CREATED:20231205T153413Z
LAST-MODIFIED:20231205T153413Z
UID:10000034-1707152400-1707159600@black.utm.utoronto.ca
SUMMARY:Hart House Black Futures presents: The Wealth Building Series
DESCRIPTION:Hart House Black Futures presents: The Wealth Building Series \nJanuary 15\, 2024 to February 12\, 2024 \n5 pm – 7 pm \nVirtual (Zoom) \n  \nWe are thrilled to introduce the Hart House Black Futures event: “The Wealth Building Series\,” a 5-week program designed to empower students from equity-seeking groups and the BIPOC community in navigating financial barriers and understanding personal finances within the current socio-economic structures. \n  \nEvent Overview: \nThis unique series provides a platform for students to ask questions\, demand change\, and gain greater access and equal opportunity to financial literacy knowledge. Led by the esteemed Dr. Radha Maharaj\, also known as Dr. M.\, this engaging and activity-based workshop series promises to be a once-in-a-lifetime experience for those seeking to enhance their understanding of personal finances and community wealth building. \n  \nKey Topics: \nJanuary 15\, 2024: Back to Basics – Foundational Principles of Finance \nJanuary 22\, 2024: Get your Side Hustle On – Entrepreneurship \nJanuary 29\, 2024: Investment 101 \nFebruary 5\, 2024: Cryptocurrencies For Beginners \nFebruary 12\, 2024: Let’s Plan – Personal Finance Management \n  \nWhy Attend? \nWhether you’ve wanted to start investing\, set financial goals\, or simply improve your financial literacy\, this series covers it all. From foundational principles to cryptocurrency exploration\, participants will gain practical insights and skills to shape their financial future. \n  \nBenefits: \n\nBeginner-friendly environment\nCCR approval\nCertificate of Completion\, signed by the professor\, for U of T students who attend all sessions\nMany prizes available each week\, including restaurant and retail gift cards\n\n  \nHow to Register: \nTo secure your spot in this invaluable series\, please follow the link below: \nhttps://harthouse.ca/events/wealth-building-series-2023/2024/01/15/ \n  \nDon’t miss this opportunity to set yourself up for financial success in a supportive and enriching environment. We look forward to seeing you there!
URL:https://black.utm.utoronto.ca/event/hart-house-black-futures-presents-the-wealth-building-series/2024-02-05/
LOCATION:ON
ATTACH;FMTTYPE=image/png:https://black.utm.utoronto.ca/wp-content/uploads/2023/12/Wealth-Building-Series-Image.png
END:VEVENT
BEGIN:VEVENT
DTSTART;TZID=America/Toronto:20240208T130000
DTEND;TZID=America/Toronto:20240208T153000
DTSTAMP:20260423T100640
CREATED:20240115T143504Z
LAST-MODIFIED:20240115T145942Z
UID:10000045-1707397200-1707406200@black.utm.utoronto.ca
SUMMARY:The Journey: Black Leadership Navigating Institutional Spaces
DESCRIPTION:Date: February 8\, 2023\nTime: 1:00 pm – 3:30 pm\nFormat: Hybrid – This event will be hosted in-person and live-streamed.\nLocation: The Great Hall\, Hart House\, Room 3028\, 7 Hart House Circle\nCost: Free \nJoin ARCDO and Hart House for a film screening and discussion centered on Black women in leadership navigating institutional spaces. Navigating the realities of anti-Black racism within varying intersectionalities calls for Black leaders to engage a level of hope\, determination and strength within their professional journeys. \n\nLet us come together to engage this critically important dialogue with one of Canada’s most prominent and revered champions of equality and inclusion for Black community\, Hon. Dr. Jean Augustine.\n\n\nFilm Screening of Steadfast: The Messenger and The Message \n\nSteadfast: The Messenger and the Message brings us the uplifting story of the Honourable Dr. Jean Augustine through her first-hand account of her struggles and triumphs told in her own words. It also includes interviews with people who know her personally such as Prime Minister Justin Trudeau; former Prime Minister of Grenada\, Dr. Keith Mitchell; the first Black Miss World\, Jennifer Hosten; British actor Joseph Marcell; Grammy-nominated singer Freddy Will and several Members of Parliament and political leaders in Canada. Through re-enactments\, the film depicts the courage and determination with which Dr. Augustine fought for the rights of women and African-Canadians.\n\n\n\n\nIn Conversation with the Honourable Dr. Jean Augustine \n\nA moderated conversation with the Honourable Dr. Jean Augustine followed by questions from the audience.\n\nLink to registration for in-person attendance: https://antiracism.utoronto.ca/black-history-month/ \n 
URL:https://black.utm.utoronto.ca/event/the-journey-black-leadership-navigating-institutional-spaces/
LOCATION:Hart House\, 7 Hart House Cir\, Toronto\, ON\, M5S 3H3\, Canada
ATTACH;FMTTYPE=image/png:https://black.utm.utoronto.ca/wp-content/uploads/2024/01/steadfast-screening-poster.png
END:VEVENT
BEGIN:VEVENT
DTSTART;TZID=America/Toronto:20240212T170000
DTEND;TZID=America/Toronto:20240212T190000
DTSTAMP:20260423T100640
CREATED:20231205T153413Z
LAST-MODIFIED:20231205T153413Z
UID:10000035-1707757200-1707764400@black.utm.utoronto.ca
SUMMARY:Hart House Black Futures presents: The Wealth Building Series
DESCRIPTION:Hart House Black Futures presents: The Wealth Building Series \nJanuary 15\, 2024 to February 12\, 2024 \n5 pm – 7 pm \nVirtual (Zoom) \n  \nWe are thrilled to introduce the Hart House Black Futures event: “The Wealth Building Series\,” a 5-week program designed to empower students from equity-seeking groups and the BIPOC community in navigating financial barriers and understanding personal finances within the current socio-economic structures. \n  \nEvent Overview: \nThis unique series provides a platform for students to ask questions\, demand change\, and gain greater access and equal opportunity to financial literacy knowledge. Led by the esteemed Dr. Radha Maharaj\, also known as Dr. M.\, this engaging and activity-based workshop series promises to be a once-in-a-lifetime experience for those seeking to enhance their understanding of personal finances and community wealth building. \n  \nKey Topics: \nJanuary 15\, 2024: Back to Basics – Foundational Principles of Finance \nJanuary 22\, 2024: Get your Side Hustle On – Entrepreneurship \nJanuary 29\, 2024: Investment 101 \nFebruary 5\, 2024: Cryptocurrencies For Beginners \nFebruary 12\, 2024: Let’s Plan – Personal Finance Management \n  \nWhy Attend? \nWhether you’ve wanted to start investing\, set financial goals\, or simply improve your financial literacy\, this series covers it all. From foundational principles to cryptocurrency exploration\, participants will gain practical insights and skills to shape their financial future. \n  \nBenefits: \n\nBeginner-friendly environment\nCCR approval\nCertificate of Completion\, signed by the professor\, for U of T students who attend all sessions\nMany prizes available each week\, including restaurant and retail gift cards\n\n  \nHow to Register: \nTo secure your spot in this invaluable series\, please follow the link below: \nhttps://harthouse.ca/events/wealth-building-series-2023/2024/01/15/ \n  \nDon’t miss this opportunity to set yourself up for financial success in a supportive and enriching environment. We look forward to seeing you there!
URL:https://black.utm.utoronto.ca/event/hart-house-black-futures-presents-the-wealth-building-series/2024-02-12/
LOCATION:ON
ATTACH;FMTTYPE=image/png:https://black.utm.utoronto.ca/wp-content/uploads/2023/12/Wealth-Building-Series-Image.png
END:VEVENT
BEGIN:VEVENT
DTSTART;TZID=America/Toronto:20240213T113000
DTEND;TZID=America/Toronto:20240213T130000
DTSTAMP:20260423T100640
CREATED:20240115T145041Z
LAST-MODIFIED:20240115T145041Z
UID:10000046-1707823800-1707829200@black.utm.utoronto.ca
SUMMARY:There is More: Black Healing Circle
DESCRIPTION:Date: February 13\, 2023\nTime: 11:30 am – 1:00 pm\nFormat: Virtual – Zoom Platform.\nAudience: Faculty\, Staff\, and Students at the University of Toronto who identify as members of Black community\nNote: You must use a University of Toronto email address to register.\nCost: Free \nWith the use of African wisdom and principles\, this Black healing circle invites participants to center and explore how they may begin to live more liberated now\, whether in or outside of the school institution. Black bodies are constantly in a state of survival\, which leaves many feeling overly exhausted and stressed as it relates to school or job performance. Together\, participants will unpack the exhaustion of racial trauma\, recognize and amplify glimmers of job and hope in their Blackness\, and explore ways forward to ensure Black bodies live more liberated. \nLink to register: https://antiracism.utoronto.ca/black-history-month/
URL:https://black.utm.utoronto.ca/event/there-is-more-black-healing-circle/
LOCATION:University of Toronto Mississauga\, 3359 Mississauga Rd.\, Mississauga\, ON\, L5L 1C6\, Canada
ATTACH;FMTTYPE=image/png:https://black.utm.utoronto.ca/wp-content/uploads/2024/01/simone-donaldson.png
END:VEVENT
BEGIN:VEVENT
DTSTART;TZID=America/Toronto:20240213T120000
DTEND;TZID=America/Toronto:20240213T131500
DTSTAMP:20260423T100640
CREATED:20240123T145033Z
LAST-MODIFIED:20240206T152418Z
UID:10000049-1707825600-1707830100@black.utm.utoronto.ca
SUMMARY:Workshop Series: Black and Living Well
DESCRIPTION:Are you of Black or African descent and want to share in a space that explores pathways toward maintaining good mental health? Then join us for “Black and Living Well”.  Facilitated by Black identifying counsellors\, this is a collective environment for Black Students to freely express themselves and access resources tailored to their specific mental health needs. \nFacilitators: Vennassa Roper-Cunningham (she/her)\, MA\, RP & Myla Cooper (she/her)\, MSW Candidate \nWhen: Tuesdays\, 12:00-1:15 (see dates below) \nWhere: Kaneff 112 \nTuesday\, February 13: The Cultural Stigma Around Mental Health  \nThere is a historical shame that often stems from a broader cultural stigma surrounding mental health in the Black community. Seeking mental health support can sometimes be viewed as a sign of weakness and something to be ashamed of\, but you have the power to change this narrative. \nTuesday\, February 27: We Are Talking About It: Breaking through Emotional Hesitation \nFor some of us\, we are taught to keep our feelings to ourselves and so\, unlearning these reminders can be the tool to unlock pathways to a more meaningful life. \nTuesday\, March 5: Reimagining Self-Care for Black Folks \nWe all process and cope in different ways. Knowing that you should do what works for you and listen to your own body can be the start of building a simple self-care plan. \nTuesday\, March 12: Flip the Script: Empowering Narratives and Uplifting Stories of Hope  \nThe stories told about Black folks and their mental health may not always be hopeful but today we are channeling a different script towards hope and self-affirmation. \nRegister Today! \nBlack and Living Well Workshop Series Details
URL:https://black.utm.utoronto.ca/event/workshop-series-black-and-living-well/2024-02-13/
LOCATION:University of Toronto Mississauga\, 3359 Mississauga Rd.\, Mississauga\, ON\, L5L 1C6\, Canada
ATTACH;FMTTYPE=image/jpeg:https://black.utm.utoronto.ca/wp-content/uploads/2024/01/Black-and-Living-Well-promo.jpg
END:VEVENT
BEGIN:VEVENT
DTSTART;TZID=America/Toronto:20240213T120000
DTEND;TZID=America/Toronto:20240213T140000
DTSTAMP:20260423T100640
CREATED:20240206T160510Z
LAST-MODIFIED:20240206T160510Z
UID:10000056-1707825600-1707832800@black.utm.utoronto.ca
SUMMARY:Paint and Soul
DESCRIPTION:Date: February 13th\, 12-2pm \nJoin us for Paint and Soul\, in collaboration with the International Education Centre\, UTM Student Centre Presentation Room! \nThis event is directed to self-identifying Black students\, staff\, faculty\, and librarians to give space for creative expression\, but all are welcome to attend. \nNote: 30 spaces available; please register early. \nLearn more and register to attend this event.
URL:https://black.utm.utoronto.ca/event/paint-and-soul/
LOCATION:University of Toronto Mississauga\, 3359 Mississauga Rd.\, Mississauga\, ON\, L5L 1C6\, Canada
ATTACH;FMTTYPE=image/png:https://black.utm.utoronto.ca/wp-content/uploads/2024/02/Paint-and-Soul.png
END:VEVENT
BEGIN:VEVENT
DTSTART;TZID=America/Toronto:20240214T151000
DTEND;TZID=America/Toronto:20240214T160000
DTSTAMP:20260423T100640
CREATED:20231127T204745Z
LAST-MODIFIED:20231127T204745Z
UID:10000019-1707923400-1707926400@black.utm.utoronto.ca
SUMMARY:ABR Operational Group Monthly Meeting
DESCRIPTION:The meetings for this event will be held virtually. \nFor inquiries\, contact us at black.utm@utoronto.ca.
URL:https://black.utm.utoronto.ca/event/abr-operational-group-monthly-meeting/2024-02-14/
LOCATION:University of Toronto Mississauga\, 3359 Mississauga Rd.\, Mississauga\, ON\, L5L 1C6\, Canada
ATTACH;FMTTYPE=image/jpeg:https://black.utm.utoronto.ca/wp-content/uploads/2023/09/black-at-utm-138.jpg
END:VEVENT
BEGIN:VEVENT
DTSTART;TZID=America/Toronto:20240215T180000
DTEND;TZID=America/Toronto:20240215T200000
DTSTAMP:20260423T100640
CREATED:20240130T144237Z
LAST-MODIFIED:20240130T144356Z
UID:10000054-1708020000-1708027200@black.utm.utoronto.ca
SUMMARY:Showing up for Black Women in Higher Education
DESCRIPTION:On February 15\, join the OISE community and OISE Black faculty for a special online conversation that honours the achievements of Black women in academia and acknowledges their leadership and impact. \nThis annual Black History Month event will explore what it means to be Black and a woman in higher education — highlighting the distinct challenges Black women face in the field and the shifts required to foster a more equitable environment. \nThis year’s esteemed panelists are: \n• Dr. Natasha Buford \n• Dr. Marie Green \n• Assistant Professor Linda Iwenofu \n• Assistant Professor Shawna-Kaye Tucker \n• Professor Ann Lopez \nThis meeting will be held virtually. Registration is available here: https://oise-utoronto.zoom.us/webinar/register/WN_qoQ85zPJQdWX5RSZTHUXJQ#/registration
URL:https://black.utm.utoronto.ca/event/showing-up-for-black-women-in-higher-education/
LOCATION:University of Toronto Mississauga\, 3359 Mississauga Rd.\, Mississauga\, ON\, L5L 1C6\, Canada
ATTACH;FMTTYPE=image/png:https://black.utm.utoronto.ca/wp-content/uploads/2024/01/black-women-higher-education.png
END:VEVENT
BEGIN:VEVENT
DTSTART;TZID=America/Toronto:20240222T190000
DTEND;TZID=America/Toronto:20240222T200000
DTSTAMP:20260423T100640
CREATED:20240212T151636Z
LAST-MODIFIED:20240212T151636Z
UID:10000058-1708628400-1708632000@black.utm.utoronto.ca
SUMMARY:Trinbagonian Film Screenings: ‘Short Drop’ & ‘All Skin No Laugh’
DESCRIPTION:Thursday\, Feb 22\, 2024 \n7:00 PM – 8:00 PM EST\nLive Online via Zoom\nFree \nJoin fellow alumni for a Trinbagonian short-film screening and live Q&A. Horror/Thriller/Folklore films Short Drop and All Skin No Laugh will be streamed online followed by a live Q&A with Directors Romario Reyes\, Israel Silva and Executive Producer Mary-Rebekah Reyes (HBA 2022 UTM). \nVisit the event page to register. \nShort Drop \nAt a lonesome crossroad\, a young woman waits on the taxi stand after partying late. With no public transport in sight at this hour\, she begins to grow weary. Only a private car appears on the stand moments later. She approaches the vehicle hesitantly\, but she decides to get in\, since the driver convinces her that he’ll drop her off anywhere she wants to go. The driver eventually strikes up some awkward small talk\, which she struggles to follow. As the car ride ensues\, the young woman grows uncomfortable due to his unwanted gaze and prying conversation. (Runtime: 9 minutes) \nAll Skin No Laugh \nA boy spends a regular rainy night at home alone when he hears a random knock at the door. Suspicious and surprised\, he opens it to a vulnerable\, beautiful stranger who needs help. Unbeknownst to him\, he welcomes something into his house that he shouldn’t. (Runtime: 20 minutes) \nBoth films are rated PG-13.
URL:https://black.utm.utoronto.ca/event/trinbagonian-film-screenings-short-drop-all-skin-no-laugh/
LOCATION:University of Toronto Mississauga\, 3359 Mississauga Rd.\, Mississauga\, ON\, L5L 1C6\, Canada
ATTACH;FMTTYPE=image/png:https://black.utm.utoronto.ca/wp-content/uploads/2024/02/black-history-movie.png
END:VEVENT
BEGIN:VEVENT
DTSTART;TZID=America/Toronto:20240226T130000
DTEND;TZID=America/Toronto:20240226T150000
DTSTAMP:20260423T100640
CREATED:20240221T203812Z
LAST-MODIFIED:20240221T203812Z
UID:10000061-1708952400-1708959600@black.utm.utoronto.ca
SUMMARY:Words Unleashed Workshop
DESCRIPTION:Location: Student Centre Board Room\nDate: February 26th\, 2024Time: 1pm-3pm \nThe Caribbean and Black Writing collective (CBWC) in collaboration with the English and Drama Student Society at UTM is hosting a creative writing workshop titled “Words Unleashed” to celebrate Black History month! \nStudents will be able to receive feedback and general tips on their creative writing works from professors and panelists within the Black and Caribbean diaspora. Caribbean lunch will be provided\, and this event is open to all Black and Caribbean students as well as allies that attend UTM. \nRegister here: https://forms.office.com/Pages/ResponsePage.aspx?id=JsKqeAMvTUuQN7RtVsVSEHitLm6loHpPszxsKPMUHPtUNzRVVjNIVjNCMVhXNTZQTDQ5RDNPVDNPVy4u
URL:https://black.utm.utoronto.ca/event/words-unleashed-workshop/
LOCATION:University of Toronto Mississauga\, 3359 Mississauga Rd.\, Mississauga\, ON\, L5L 1C6\, Canada
ATTACH;FMTTYPE=image/png:https://black.utm.utoronto.ca/wp-content/uploads/2024/02/words-unleashed-workshop.png
END:VEVENT
BEGIN:VEVENT
DTSTART;TZID=America/Toronto:20240227T120000
DTEND;TZID=America/Toronto:20240227T131500
DTSTAMP:20260423T100640
CREATED:20240123T145033Z
LAST-MODIFIED:20240206T152418Z
UID:10000050-1709035200-1709039700@black.utm.utoronto.ca
SUMMARY:Workshop Series: Black and Living Well
DESCRIPTION:Are you of Black or African descent and want to share in a space that explores pathways toward maintaining good mental health? Then join us for “Black and Living Well”.  Facilitated by Black identifying counsellors\, this is a collective environment for Black Students to freely express themselves and access resources tailored to their specific mental health needs. \nFacilitators: Vennassa Roper-Cunningham (she/her)\, MA\, RP & Myla Cooper (she/her)\, MSW Candidate \nWhen: Tuesdays\, 12:00-1:15 (see dates below) \nWhere: Kaneff 112 \nTuesday\, February 13: The Cultural Stigma Around Mental Health  \nThere is a historical shame that often stems from a broader cultural stigma surrounding mental health in the Black community. Seeking mental health support can sometimes be viewed as a sign of weakness and something to be ashamed of\, but you have the power to change this narrative. \nTuesday\, February 27: We Are Talking About It: Breaking through Emotional Hesitation \nFor some of us\, we are taught to keep our feelings to ourselves and so\, unlearning these reminders can be the tool to unlock pathways to a more meaningful life. \nTuesday\, March 5: Reimagining Self-Care for Black Folks \nWe all process and cope in different ways. Knowing that you should do what works for you and listen to your own body can be the start of building a simple self-care plan. \nTuesday\, March 12: Flip the Script: Empowering Narratives and Uplifting Stories of Hope  \nThe stories told about Black folks and their mental health may not always be hopeful but today we are channeling a different script towards hope and self-affirmation. \nRegister Today! \nBlack and Living Well Workshop Series Details
URL:https://black.utm.utoronto.ca/event/workshop-series-black-and-living-well/2024-02-27/
LOCATION:University of Toronto Mississauga\, 3359 Mississauga Rd.\, Mississauga\, ON\, L5L 1C6\, Canada
ATTACH;FMTTYPE=image/jpeg:https://black.utm.utoronto.ca/wp-content/uploads/2024/01/Black-and-Living-Well-promo.jpg
END:VEVENT
BEGIN:VEVENT
DTSTART;TZID=America/Toronto:20240228T113000
DTEND;TZID=America/Toronto:20240228T140000
DTSTAMP:20260423T100640
CREATED:20240205T143634Z
LAST-MODIFIED:20240205T143634Z
UID:10000055-1709119800-1709128800@black.utm.utoronto.ca
SUMMARY:Black History Month Luncheon
DESCRIPTION:University of Toronto Advancement’s Black History Month Luncheon returns with prizes\, performances and an address from guest of honour former Governor General of Canada\, the Right Honourable Michaëlle Jean. \nTo register for the BHM Luncheon\, please click to attend in person or virtual live stream. \nWe look forward to seeing you there.
URL:https://black.utm.utoronto.ca/event/black-history-month-luncheon/
LOCATION:University of Toronto Mississauga\, 3359 Mississauga Rd.\, Mississauga\, ON\, L5L 1C6\, Canada
ATTACH;FMTTYPE=image/jpeg:https://black.utm.utoronto.ca/wp-content/uploads/2024/02/BHM-Luncheon.jpg
END:VEVENT
END:VCALENDAR