BEGIN:VCALENDAR
VERSION:2.0
PRODID:-//Black at the University of Toronto Mississauga - ECPv6.15.20//NONSGML v1.0//EN
CALSCALE:GREGORIAN
METHOD:PUBLISH
X-ORIGINAL-URL:https://black.utm.utoronto.ca
X-WR-CALDESC:Events for Black at the University of Toronto Mississauga
REFRESH-INTERVAL;VALUE=DURATION:PT1H
X-Robots-Tag:noindex
X-PUBLISHED-TTL:PT1H
BEGIN:VTIMEZONE
TZID:America/Toronto
BEGIN:DAYLIGHT
TZOFFSETFROM:-0500
TZOFFSETTO:-0400
TZNAME:EDT
DTSTART:20230312T070000
END:DAYLIGHT
BEGIN:STANDARD
TZOFFSETFROM:-0400
TZOFFSETTO:-0500
TZNAME:EST
DTSTART:20231105T060000
END:STANDARD
BEGIN:DAYLIGHT
TZOFFSETFROM:-0500
TZOFFSETTO:-0400
TZNAME:EDT
DTSTART:20240310T070000
END:DAYLIGHT
BEGIN:STANDARD
TZOFFSETFROM:-0400
TZOFFSETTO:-0500
TZNAME:EST
DTSTART:20241103T060000
END:STANDARD
BEGIN:DAYLIGHT
TZOFFSETFROM:-0500
TZOFFSETTO:-0400
TZNAME:EDT
DTSTART:20250309T070000
END:DAYLIGHT
BEGIN:STANDARD
TZOFFSETFROM:-0400
TZOFFSETTO:-0500
TZNAME:EST
DTSTART:20251102T060000
END:STANDARD
END:VTIMEZONE
BEGIN:VEVENT
DTSTART;TZID=America/Toronto:20240508T110000
DTEND;TZID=America/Toronto:20240508T130000
DTSTAMP:20260422T230742
CREATED:20240415T222123Z
LAST-MODIFIED:20240415T222123Z
UID:10000075-1715166000-1715173200@black.utm.utoronto.ca
SUMMARY:Black Health Lecture Series
DESCRIPTION:You are invited to attend the conclusion of the Black Health Lecture Series on May 8th\, from 11:00am – 1:00pm. Please see the flyer and sign up to register if you can make it (this will be an in-person event). \nOur speaker is Debbie Douglas the Executive Director of Ontario Council of Agencies Serving Immigrants. She will be speaking about the Black refugee crisis in Canada. \nTo register\, click here.
URL:https://black.utm.utoronto.ca/event/black-health-lecture-series/
LOCATION:University of Toronto Mississauga\, 3359 Mississauga Rd.\, Mississauga\, ON\, L5L 1C6\, Canada
ATTACH;FMTTYPE=image/png:https://black.utm.utoronto.ca/wp-content/uploads/2024/04/BHLSeries-Poster.png
END:VEVENT
BEGIN:VEVENT
DTSTART;TZID=America/Toronto:20240508T121000
DTEND;TZID=America/Toronto:20240508T124500
DTSTAMP:20260422T230742
CREATED:20240507T133922Z
LAST-MODIFIED:20240515T141421Z
UID:10000077-1715170200-1715172300@black.utm.utoronto.ca
SUMMARY:Uzima Wednesday Walks
DESCRIPTION:With the weather warming up\, we are excited to announce new ways to bring together our Black-identifying staff in an informal\, leisurely\, and healthy way to increase social connections through our Uzima (Wellness) Wednesday Walks\, starting this Wednesday\, May 8th\, and every Wednesday through May 29th\, 2024. \nThese 30-40-minute walks through our campus\, led by members of the Black Leadership Table\, are an excellent way for Black-identifying staff to stay active\, connect with nature\, and reap the mental health benefits of the great outdoors. \nMeet-up location: We will meet in front of Tim Horton’s in the Davis Building at 12:10 p.m. and head out. \nTo participate: \n\nChoose the right gear and stay hydrated: comfortable shoes are a must\, as are sunscreen\, sunglasses\, a light jacket\, and a water bottle.\nWarm up for our route: prepare your muscles for the walk. Gentle stretches or marching in place can prevent injury. Our walks are along the well-maintained paths on campus\, so you can enjoy the scenery.\nRegister: Uzima Wednesday Walks – Registration Form (office.com) here for walks on May 8\, 15\, 22\, and 29.\n\nThis initiative is part of the Black at UTM priorities that foster and embed a culture of belonging\, support community engagement\, dialogue and participation\, and increase Black visibility and impact at UTM. To learn more about Black at UTM\, please visit our website at https://black.utm.utoronto.ca/ or email us at black.utm@utoronto.ca. \nSee you on the trails!
URL:https://black.utm.utoronto.ca/event/uzima-wednesday-walks/2024-05-08/
LOCATION:University of Toronto Mississauga\, 3359 Mississauga Rd.\, Mississauga\, ON\, L5L 1C6\, Canada
ATTACH;FMTTYPE=image/jpeg:https://black.utm.utoronto.ca/wp-content/uploads/2024/05/Uzima-Screen-updated.jpg
ORGANIZER;CN="Black Staff Leadership Table":MAILTO:black.utm@utoronto.ca
END:VEVENT
BEGIN:VEVENT
DTSTART;TZID=America/Toronto:20240508T151000
DTEND;TZID=America/Toronto:20240508T160000
DTSTAMP:20260422T230742
CREATED:20231127T204745Z
LAST-MODIFIED:20231127T204745Z
UID:10000022-1715181000-1715184000@black.utm.utoronto.ca
SUMMARY:ABR Operational Group Monthly Meeting
DESCRIPTION:The meetings for this event will be held virtually. \nFor inquiries\, contact us at black.utm@utoronto.ca.
URL:https://black.utm.utoronto.ca/event/abr-operational-group-monthly-meeting/2024-05-08/
LOCATION:University of Toronto Mississauga\, 3359 Mississauga Rd.\, Mississauga\, ON\, L5L 1C6\, Canada
ATTACH;FMTTYPE=image/jpeg:https://black.utm.utoronto.ca/wp-content/uploads/2023/09/black-at-utm-138.jpg
END:VEVENT
BEGIN:VEVENT
DTSTART;VALUE=DATE:20240509
DTEND;VALUE=DATE:20240511
DTSTAMP:20260422T230742
CREATED:20240325T140136Z
LAST-MODIFIED:20240325T140136Z
UID:10000069-1715212800-1715385599@black.utm.utoronto.ca
SUMMARY:Bridging Black: Building Connections for Black Flourishing
DESCRIPTION:On May 9 and 10\, 2024\, the University of Waterloo and Wilfrid Laurier University will be hosting the Inter-Institutional Forum of the Scarborough National Charter on Anti-Black Racism and Black Inclusion in Canadian Higher Education. \nFor the 2024 Scarborough Charter Inter-Institutional Forum\, we have chosen the theme – Bridging Black. Our intention is to bridge the gaps in both learning and action and to build better connections between the different stakeholders at higher education institutions – senior administration\, faculty\, staff\, students\, and neighbouring Black communities. \nProgramming of the forum is built to prioritize\, share\, and legitimize the experiences and knowledges of Black people participating in the institution as well as the knowledges that have historically contributed to the flourishing of the academy. We hope that by providing the room for intentional idea exchange around the principles of the Scarborough Charter\, leaders and participants can leave with more tools and reinvigorated spirits to follow through on redressing anti-Blackness in higher education. \nFor more information and to register\, visit https://uwaterloo.ca/inter-institutional-forum-scarborough-charter.
URL:https://black.utm.utoronto.ca/event/bridging-black-building-connections-for-black-flourishing/
LOCATION:University of Waterloo\, 200 University Ave W\, Waterloo\, ON\, Canada
ATTACH;FMTTYPE=image/jpeg:https://black.utm.utoronto.ca/wp-content/uploads/2024/03/scarborough-charter-bridging-black.jpg
END:VEVENT
BEGIN:VEVENT
DTSTART;TZID=America/Toronto:20240515T121000
DTEND;TZID=America/Toronto:20240515T124500
DTSTAMP:20260422T230742
CREATED:20240507T133922Z
LAST-MODIFIED:20240515T141421Z
UID:10000078-1715775000-1715777100@black.utm.utoronto.ca
SUMMARY:Uzima Wednesday Walks
DESCRIPTION:With the weather warming up\, we are excited to announce new ways to bring together our Black-identifying staff in an informal\, leisurely\, and healthy way to increase social connections through our Uzima (Wellness) Wednesday Walks\, starting this Wednesday\, May 8th\, and every Wednesday through May 29th\, 2024. \nThese 30-40-minute walks through our campus\, led by members of the Black Leadership Table\, are an excellent way for Black-identifying staff to stay active\, connect with nature\, and reap the mental health benefits of the great outdoors. \nMeet-up location: We will meet in front of Tim Horton’s in the Davis Building at 12:10 p.m. and head out. \nTo participate: \n\nChoose the right gear and stay hydrated: comfortable shoes are a must\, as are sunscreen\, sunglasses\, a light jacket\, and a water bottle.\nWarm up for our route: prepare your muscles for the walk. Gentle stretches or marching in place can prevent injury. Our walks are along the well-maintained paths on campus\, so you can enjoy the scenery.\nRegister: Uzima Wednesday Walks – Registration Form (office.com) here for walks on May 8\, 15\, 22\, and 29.\n\nThis initiative is part of the Black at UTM priorities that foster and embed a culture of belonging\, support community engagement\, dialogue and participation\, and increase Black visibility and impact at UTM. To learn more about Black at UTM\, please visit our website at https://black.utm.utoronto.ca/ or email us at black.utm@utoronto.ca. \nSee you on the trails!
URL:https://black.utm.utoronto.ca/event/uzima-wednesday-walks/2024-05-15/
LOCATION:University of Toronto Mississauga\, 3359 Mississauga Rd.\, Mississauga\, ON\, L5L 1C6\, Canada
ATTACH;FMTTYPE=image/jpeg:https://black.utm.utoronto.ca/wp-content/uploads/2024/05/Uzima-Screen-updated.jpg
ORGANIZER;CN="Black Staff Leadership Table":MAILTO:black.utm@utoronto.ca
END:VEVENT
BEGIN:VEVENT
DTSTART;TZID=America/Toronto:20240516T120000
DTEND;TZID=America/Toronto:20240516T133000
DTSTAMP:20260422T230742
CREATED:20231127T203554Z
LAST-MODIFIED:20240531T163533Z
UID:10000064-1715860800-1715866200@black.utm.utoronto.ca
SUMMARY:Black Leadership Advisory Committee
DESCRIPTION:The UTM Black Leadership Advisory Committee (BLAC) will serve as an advisory body to the Vice President and Principal and the campus’ leadership teams and committees to support transformative changes that promote that promote Black Flourishing and Inclusive Excellence among UTM’s Black staff\, students\, faculty\, instructors\, custodians\, and librarian communities by dismantling patterns of anti-Black racism and injustice. Using an equity-centered and anti-oppressive lens\, the Black Leadership Advisory Committee works collaboratively with campus and divisional partners to co-create a campus where all Black staff\, students\, faculty\, instructors\, custodians\, and librarians learn\, work\, teach and thrive by advancing racial equity and creating empowering spaces of belonging in all facets of the University of Toronto Mississauga’s mission and vision. \nDrawing on the expertise of UTM’s Black staff\, students\, faculty\, instructors\, custodians\, and librarians\, the BLAC will support a campus-wide approach to upholding\, sustaining\, and strengthening UTM’s strategic priorities and objectives in alignment with the 58 commitments from the Report of the University of Toronto Anti-Black Racism Task Force (utoronto.ca). \nYou can view the terms of reference here. \nThe event will take place in DV 3214. Note that remote attendance will also be available. \nFor inquiries\, contact us at black.utm@utoronto.ca.
URL:https://black.utm.utoronto.ca/event/black-leadership-table/2024-05-16/
LOCATION:University of Toronto Mississauga\, 3359 Mississauga Rd.\, Mississauga\, ON\, L5L 1C6\, Canada
ATTACH;FMTTYPE=image/jpeg:https://black.utm.utoronto.ca/wp-content/uploads/2023/09/black-at-utm-136.jpg
END:VEVENT
BEGIN:VEVENT
DTSTART;TZID=America/Toronto:20240522T121000
DTEND;TZID=America/Toronto:20240522T124500
DTSTAMP:20260422T230742
CREATED:20240507T133922Z
LAST-MODIFIED:20240515T141421Z
UID:10000079-1716379800-1716381900@black.utm.utoronto.ca
SUMMARY:Uzima Wednesday Walks
DESCRIPTION:With the weather warming up\, we are excited to announce new ways to bring together our Black-identifying staff in an informal\, leisurely\, and healthy way to increase social connections through our Uzima (Wellness) Wednesday Walks\, starting this Wednesday\, May 8th\, and every Wednesday through May 29th\, 2024. \nThese 30-40-minute walks through our campus\, led by members of the Black Leadership Table\, are an excellent way for Black-identifying staff to stay active\, connect with nature\, and reap the mental health benefits of the great outdoors. \nMeet-up location: We will meet in front of Tim Horton’s in the Davis Building at 12:10 p.m. and head out. \nTo participate: \n\nChoose the right gear and stay hydrated: comfortable shoes are a must\, as are sunscreen\, sunglasses\, a light jacket\, and a water bottle.\nWarm up for our route: prepare your muscles for the walk. Gentle stretches or marching in place can prevent injury. Our walks are along the well-maintained paths on campus\, so you can enjoy the scenery.\nRegister: Uzima Wednesday Walks – Registration Form (office.com) here for walks on May 8\, 15\, 22\, and 29.\n\nThis initiative is part of the Black at UTM priorities that foster and embed a culture of belonging\, support community engagement\, dialogue and participation\, and increase Black visibility and impact at UTM. To learn more about Black at UTM\, please visit our website at https://black.utm.utoronto.ca/ or email us at black.utm@utoronto.ca. \nSee you on the trails!
URL:https://black.utm.utoronto.ca/event/uzima-wednesday-walks/2024-05-22/
LOCATION:University of Toronto Mississauga\, 3359 Mississauga Rd.\, Mississauga\, ON\, L5L 1C6\, Canada
ATTACH;FMTTYPE=image/jpeg:https://black.utm.utoronto.ca/wp-content/uploads/2024/05/Uzima-Screen-updated.jpg
ORGANIZER;CN="Black Staff Leadership Table":MAILTO:black.utm@utoronto.ca
END:VEVENT
BEGIN:VEVENT
DTSTART;TZID=America/Toronto:20240529T121000
DTEND;TZID=America/Toronto:20240529T124500
DTSTAMP:20260422T230742
CREATED:20240507T133922Z
LAST-MODIFIED:20240515T141421Z
UID:10000080-1716984600-1716986700@black.utm.utoronto.ca
SUMMARY:Uzima Wednesday Walks
DESCRIPTION:With the weather warming up\, we are excited to announce new ways to bring together our Black-identifying staff in an informal\, leisurely\, and healthy way to increase social connections through our Uzima (Wellness) Wednesday Walks\, starting this Wednesday\, May 8th\, and every Wednesday through May 29th\, 2024. \nThese 30-40-minute walks through our campus\, led by members of the Black Leadership Table\, are an excellent way for Black-identifying staff to stay active\, connect with nature\, and reap the mental health benefits of the great outdoors. \nMeet-up location: We will meet in front of Tim Horton’s in the Davis Building at 12:10 p.m. and head out. \nTo participate: \n\nChoose the right gear and stay hydrated: comfortable shoes are a must\, as are sunscreen\, sunglasses\, a light jacket\, and a water bottle.\nWarm up for our route: prepare your muscles for the walk. Gentle stretches or marching in place can prevent injury. Our walks are along the well-maintained paths on campus\, so you can enjoy the scenery.\nRegister: Uzima Wednesday Walks – Registration Form (office.com) here for walks on May 8\, 15\, 22\, and 29.\n\nThis initiative is part of the Black at UTM priorities that foster and embed a culture of belonging\, support community engagement\, dialogue and participation\, and increase Black visibility and impact at UTM. To learn more about Black at UTM\, please visit our website at https://black.utm.utoronto.ca/ or email us at black.utm@utoronto.ca. \nSee you on the trails!
URL:https://black.utm.utoronto.ca/event/uzima-wednesday-walks/2024-05-29/
LOCATION:University of Toronto Mississauga\, 3359 Mississauga Rd.\, Mississauga\, ON\, L5L 1C6\, Canada
ATTACH;FMTTYPE=image/jpeg:https://black.utm.utoronto.ca/wp-content/uploads/2024/05/Uzima-Screen-updated.jpg
ORGANIZER;CN="Black Staff Leadership Table":MAILTO:black.utm@utoronto.ca
END:VEVENT
END:VCALENDAR