BEGIN:VCALENDAR
VERSION:2.0
PRODID:-//Black at the University of Toronto Mississauga - ECPv6.15.20//NONSGML v1.0//EN
CALSCALE:GREGORIAN
METHOD:PUBLISH
X-WR-CALNAME:Black at the University of Toronto Mississauga
X-ORIGINAL-URL:https://black.utm.utoronto.ca
X-WR-CALDESC:Events for Black at the University of Toronto Mississauga
REFRESH-INTERVAL;VALUE=DURATION:PT1H
X-Robots-Tag:noindex
X-PUBLISHED-TTL:PT1H
BEGIN:VTIMEZONE
TZID:America/Toronto
BEGIN:DAYLIGHT
TZOFFSETFROM:-0500
TZOFFSETTO:-0400
TZNAME:EDT
DTSTART:20250309T070000
END:DAYLIGHT
BEGIN:STANDARD
TZOFFSETFROM:-0400
TZOFFSETTO:-0500
TZNAME:EST
DTSTART:20251102T060000
END:STANDARD
BEGIN:DAYLIGHT
TZOFFSETFROM:-0500
TZOFFSETTO:-0400
TZNAME:EDT
DTSTART:20260308T070000
END:DAYLIGHT
BEGIN:STANDARD
TZOFFSETFROM:-0400
TZOFFSETTO:-0500
TZNAME:EST
DTSTART:20261101T060000
END:STANDARD
BEGIN:DAYLIGHT
TZOFFSETFROM:-0500
TZOFFSETTO:-0400
TZNAME:EDT
DTSTART:20270314T070000
END:DAYLIGHT
BEGIN:STANDARD
TZOFFSETFROM:-0400
TZOFFSETTO:-0500
TZNAME:EST
DTSTART:20271107T060000
END:STANDARD
END:VTIMEZONE
BEGIN:VEVENT
DTSTART;TZID=America/Toronto:20260716T120000
DTEND;TZID=America/Toronto:20260716T130000
DTSTAMP:20260420T205618
CREATED:20250903T033750Z
LAST-MODIFIED:20250903T033951Z
UID:10000134-1784203200-1784206800@black.utm.utoronto.ca
SUMMARY:Black Leadership Advisory Committee Meeting
DESCRIPTION:The Black Leadership Advisory Committee (BLAC) at the University of Toronto Mississauga serves as a strategic advisory body to the Vice-President and Principal\, as well as campus leadership teams and committees. BLAC is dedicated to advancing transformative change that fosters Black Flourishing and Inclusive Excellence across UTM’s diverse Black communities—including staff\, students\, faculty\, instructors\, custodians\, and librarians. \nThrough its work\, BLAC actively dismantles patterns of anti-Black racism and injustice by: \n🔄 Providing updates on current anti-Black racism initiatives\n📣 Reviewing campus climate and amplifying feedback from Black student and professional staff communities\n📅 Planning impactful programming for Black engagement\, dialogue\, and learning\n📊 Shaping new equity benchmarks and reporting structures\n🗣️ Hosting open forums for member insights and strategic input \nBLAC is a driving force for equity\, accountability\, and community empowerment at UTM.
URL:https://black.utm.utoronto.ca/event/black-leadership-advisory-committee-meeting/2026-07-16/
LOCATION:Hybrid and in-person\, locations TBD.
ATTACH;FMTTYPE=image/png:https://black.utm.utoronto.ca/wp-content/uploads/2025/09/Black-at-UTM-Meeting-e1758912751704.png
END:VEVENT
END:VCALENDAR